BEGIN:VCALENDAR
VERSION:2.0
PRODID:-//Shorecliffs Golf Club - ECPv6.15.18//NONSGML v1.0//EN
CALSCALE:GREGORIAN
METHOD:PUBLISH
X-ORIGINAL-URL:https://www.shorecliffsgolfclub.com
X-WR-CALDESC:Events for Shorecliffs Golf Club
REFRESH-INTERVAL;VALUE=DURATION:PT1H
X-Robots-Tag:noindex
X-PUBLISHED-TTL:PT1H
BEGIN:VTIMEZONE
TZID:America/Los_Angeles
BEGIN:DAYLIGHT
TZOFFSETFROM:-0800
TZOFFSETTO:-0700
TZNAME:PDT
DTSTART:20240310T100000
END:DAYLIGHT
BEGIN:STANDARD
TZOFFSETFROM:-0700
TZOFFSETTO:-0800
TZNAME:PST
DTSTART:20241103T090000
END:STANDARD
BEGIN:DAYLIGHT
TZOFFSETFROM:-0800
TZOFFSETTO:-0700
TZNAME:PDT
DTSTART:20250309T100000
END:DAYLIGHT
BEGIN:STANDARD
TZOFFSETFROM:-0700
TZOFFSETTO:-0800
TZNAME:PST
DTSTART:20251102T090000
END:STANDARD
BEGIN:DAYLIGHT
TZOFFSETFROM:-0800
TZOFFSETTO:-0700
TZNAME:PDT
DTSTART:20260308T100000
END:DAYLIGHT
BEGIN:STANDARD
TZOFFSETFROM:-0700
TZOFFSETTO:-0800
TZNAME:PST
DTSTART:20261101T090000
END:STANDARD
END:VTIMEZONE
BEGIN:VEVENT
DTSTART;TZID=America/Los_Angeles:20250606T130000
DTEND;TZID=America/Los_Angeles:20250606T200000
DTSTAMP:20260421T080713
CREATED:20250505T212301Z
LAST-MODIFIED:20250505T212301Z
UID:10000719-1749214800-1749240000@www.shorecliffsgolfclub.com
SUMMARY:1st Annual Bogeys & Beers Tournament
DESCRIPTION:BOGEYS & BEERS TOURNAMENT\n\n\n\n\n1:00PM RIBBON-CUTTING CEREMONY \n3:00PM SHOTGUN START \n\n\n$60 Per Player | $50 SC+ Members \n\n\nJoin us for a celebration of GOLF & LOCAL COMMUNITY BRAND PARTNERSHIPS! The price includes a Golf Cart\, Fajitas\, Buffet\, Beer Tasting\, and PRIZES! \n\n\nEvent Highlights:  \n4-Person Scramble – Team up for a relaxed\, fun round! \nAll Holes Play as Par 3s – Perfect for golfers of all skill levels. \nOn-Course Beer Tastings – Sample brews from local vendors as you play. \nFajitas Buffet – Post-round feast to refuel and celebrate. \nContests & Prizes – Closest to the pin and more! \n\n\n\n\nFor more information: \n\n\n\n\n501 Avenida Vaquero\, San Clemente \n\n\n(949) 492-1178 \nSign Up Below! \nContactPlease enable JavaScript in your browser to complete this form.Name *FirstLastEmail *PhoneMessage Submit
URL:https://www.shorecliffsgolfclub.com/event/1st-annual-bogeys-beers-tournament/
ATTACH;FMTTYPE=image/png:https://www.shorecliffsgolfclub.com/wp-content/uploads/sites/9186/2025/05/Bogeys-Beers-Tourney-Flyer.png
END:VEVENT
END:VCALENDAR