BEGIN:VCALENDAR
VERSION:2.0
PRODID:-//Shorecliffs Golf Club - ECPv6.15.18//NONSGML v1.0//EN
CALSCALE:GREGORIAN
METHOD:PUBLISH
X-ORIGINAL-URL:https://www.shorecliffsgolfclub.com
X-WR-CALDESC:Events for Shorecliffs Golf Club
REFRESH-INTERVAL;VALUE=DURATION:PT1H
X-Robots-Tag:noindex
X-PUBLISHED-TTL:PT1H
BEGIN:VTIMEZONE
TZID:America/Los_Angeles
BEGIN:DAYLIGHT
TZOFFSETFROM:-0800
TZOFFSETTO:-0700
TZNAME:PDT
DTSTART:20240310T100000
END:DAYLIGHT
BEGIN:STANDARD
TZOFFSETFROM:-0700
TZOFFSETTO:-0800
TZNAME:PST
DTSTART:20241103T090000
END:STANDARD
BEGIN:DAYLIGHT
TZOFFSETFROM:-0800
TZOFFSETTO:-0700
TZNAME:PDT
DTSTART:20250309T100000
END:DAYLIGHT
BEGIN:STANDARD
TZOFFSETFROM:-0700
TZOFFSETTO:-0800
TZNAME:PST
DTSTART:20251102T090000
END:STANDARD
BEGIN:DAYLIGHT
TZOFFSETFROM:-0800
TZOFFSETTO:-0700
TZNAME:PDT
DTSTART:20260308T100000
END:DAYLIGHT
BEGIN:STANDARD
TZOFFSETFROM:-0700
TZOFFSETTO:-0800
TZNAME:PST
DTSTART:20261101T090000
END:STANDARD
END:VTIMEZONE
BEGIN:VEVENT
DTSTART;VALUE=DATE:20250704
DTEND;VALUE=DATE:20250705
DTSTAMP:20260419T052154
CREATED:20250721T181436Z
LAST-MODIFIED:20250721T181436Z
UID:10000741-1751587200-1751673599@www.shorecliffsgolfclub.com
SUMMARY:INDEPENDENCE DAY
DESCRIPTION:
URL:https://www.shorecliffsgolfclub.com/event/independence-day/
END:VEVENT
BEGIN:VEVENT
DTSTART;TZID=America/Los_Angeles:20250704T173000
DTEND;TZID=America/Los_Angeles:20250704T203000
DTSTAMP:20260419T052154
CREATED:20250530T121821Z
LAST-MODIFIED:20250530T121821Z
UID:10000727-1751650200-1751661000@www.shorecliffsgolfclub.com
SUMMARY:Friday Night Dinner
DESCRIPTION:
URL:https://www.shorecliffsgolfclub.com/event/friday-night-dinner-7/2025-07-04/
END:VEVENT
BEGIN:VEVENT
DTSTART;TZID=America/Los_Angeles:20250705T120000
DTEND;TZID=America/Los_Angeles:20250705T200000
DTSTAMP:20260419T052154
CREATED:20250721T183040Z
LAST-MODIFIED:20250721T183040Z
UID:10000742-1751716800-1751745600@www.shorecliffsgolfclub.com
SUMMARY:OUTSIDE LIVE MUSIC ON THE PRADO
DESCRIPTION:
URL:https://www.shorecliffsgolfclub.com/event/outside-live-music-on-the-prado/
END:VEVENT
BEGIN:VEVENT
DTSTART;TZID=America/Los_Angeles:20250711T173000
DTEND;TZID=America/Los_Angeles:20250711T203000
DTSTAMP:20260419T052154
CREATED:20250530T121821Z
LAST-MODIFIED:20250530T121821Z
UID:10000728-1752255000-1752265800@www.shorecliffsgolfclub.com
SUMMARY:Friday Night Dinner
DESCRIPTION:
URL:https://www.shorecliffsgolfclub.com/event/friday-night-dinner-7/2025-07-11/
END:VEVENT
BEGIN:VEVENT
DTSTART;TZID=America/Los_Angeles:20250712T173000
DTEND;TZID=America/Los_Angeles:20250712T220000
DTSTAMP:20260419T052154
CREATED:20250721T183606Z
LAST-MODIFIED:20250721T183606Z
UID:10000876-1752341400-1752357600@www.shorecliffsgolfclub.com
SUMMARY:Closed For Event
DESCRIPTION:
URL:https://www.shorecliffsgolfclub.com/event/closed-for-event/
END:VEVENT
BEGIN:VEVENT
DTSTART;TZID=America/Los_Angeles:20250718T173000
DTEND;TZID=America/Los_Angeles:20250718T203000
DTSTAMP:20260419T052154
CREATED:20250530T121821Z
LAST-MODIFIED:20250530T121821Z
UID:10000729-1752859800-1752870600@www.shorecliffsgolfclub.com
SUMMARY:Friday Night Dinner
DESCRIPTION:
URL:https://www.shorecliffsgolfclub.com/event/friday-night-dinner-7/2025-07-18/
END:VEVENT
BEGIN:VEVENT
DTSTART;TZID=America/Los_Angeles:20250719T173000
DTEND;TZID=America/Los_Angeles:20250719T203000
DTSTAMP:20260419T052154
CREATED:20250429T232448Z
LAST-MODIFIED:20250614T004308Z
UID:10000433-1752946200-1752957000@www.shorecliffsgolfclub.com
SUMMARY:Murder Mystery Night
DESCRIPTION:YOU’RE INVITED TO AN EVENING OF \nMURDER & MYSTERY\n\n\n\n\nSaturday\, July 19th\, 2025\n5:30pm – 8:30pm\n501 Avenida Vaquero\, San Clemente\n$110 Per Person \n\n\nJoin us at The 501 Restaurant & Bar for a thrilling\, immersive murder mystery experience where YOU become part of the story! A crime has been committed\, secrets are lurking\, and every guest is a suspect…It’s a 1930s Hollywood whodunnit! \nWhat to Expect: \nLive actors performing an engaging\, interactive mystery \n3-course gourmet dinner paired with suspense \nClues and plot twists at every turn \n\n\nLimited Seats! RSVP via Eventbrite or call (949) 492-1178 ext. 3
URL:https://www.shorecliffsgolfclub.com/event/murder-mystery-night/
ATTACH;FMTTYPE=image/png:https://www.shorecliffsgolfclub.com/wp-content/uploads/sites/9186/2025/06/Murder-Mystery-Night-Flyer.png
END:VEVENT
BEGIN:VEVENT
DTSTART;TZID=America/Los_Angeles:20250725T173000
DTEND;TZID=America/Los_Angeles:20250725T203000
DTSTAMP:20260419T052154
CREATED:20250530T121821Z
LAST-MODIFIED:20250530T121821Z
UID:10000730-1753464600-1753475400@www.shorecliffsgolfclub.com
SUMMARY:Friday Night Dinner
DESCRIPTION:
URL:https://www.shorecliffsgolfclub.com/event/friday-night-dinner-7/2025-07-25/
END:VEVENT
END:VCALENDAR