BEGIN:VCALENDAR
VERSION:2.0
PRODID:-//Shorecliffs Golf Club - ECPv6.15.18//NONSGML v1.0//EN
CALSCALE:GREGORIAN
METHOD:PUBLISH
X-ORIGINAL-URL:https://www.shorecliffsgolfclub.com
X-WR-CALDESC:Events for Shorecliffs Golf Club
REFRESH-INTERVAL;VALUE=DURATION:PT1H
X-Robots-Tag:noindex
X-PUBLISHED-TTL:PT1H
BEGIN:VTIMEZONE
TZID:America/Los_Angeles
BEGIN:DAYLIGHT
TZOFFSETFROM:-0800
TZOFFSETTO:-0700
TZNAME:PDT
DTSTART:20240310T100000
END:DAYLIGHT
BEGIN:STANDARD
TZOFFSETFROM:-0700
TZOFFSETTO:-0800
TZNAME:PST
DTSTART:20241103T090000
END:STANDARD
BEGIN:DAYLIGHT
TZOFFSETFROM:-0800
TZOFFSETTO:-0700
TZNAME:PDT
DTSTART:20250309T100000
END:DAYLIGHT
BEGIN:STANDARD
TZOFFSETFROM:-0700
TZOFFSETTO:-0800
TZNAME:PST
DTSTART:20251102T090000
END:STANDARD
BEGIN:DAYLIGHT
TZOFFSETFROM:-0800
TZOFFSETTO:-0700
TZNAME:PDT
DTSTART:20260308T100000
END:DAYLIGHT
BEGIN:STANDARD
TZOFFSETFROM:-0700
TZOFFSETTO:-0800
TZNAME:PST
DTSTART:20261101T090000
END:STANDARD
END:VTIMEZONE
BEGIN:VEVENT
DTSTART;TZID=America/Los_Angeles:20250801T160000
DTEND;TZID=America/Los_Angeles:20250801T190000
DTSTAMP:20260419T070400
CREATED:20250721T183622Z
LAST-MODIFIED:20250721T183622Z
UID:10000877-1754064000-1754074800@www.shorecliffsgolfclub.com
SUMMARY:Closed For Event **Restaurant still open to public**
DESCRIPTION:
URL:https://www.shorecliffsgolfclub.com/event/closed-for-event-restaurant-still-open-to-public/
END:VEVENT
BEGIN:VEVENT
DTSTART;TZID=America/Los_Angeles:20250801T173000
DTEND;TZID=America/Los_Angeles:20250801T203000
DTSTAMP:20260419T070400
CREATED:20250819T230834Z
LAST-MODIFIED:20250819T230834Z
UID:10000912-1754069400-1754080200@www.shorecliffsgolfclub.com
SUMMARY:Friday Night Dinner
DESCRIPTION:
URL:https://www.shorecliffsgolfclub.com/event/friday-night-dinner-9/2025-08-01/
END:VEVENT
BEGIN:VEVENT
DTSTART;TZID=America/Los_Angeles:20250802T170000
DTEND;TZID=America/Los_Angeles:20250802T220000
DTSTAMP:20260419T070400
CREATED:20250721T183636Z
LAST-MODIFIED:20250721T183636Z
UID:10000878-1754154000-1754172000@www.shorecliffsgolfclub.com
SUMMARY:Closed For Event
DESCRIPTION:
URL:https://www.shorecliffsgolfclub.com/event/closed-for-event-2/
END:VEVENT
BEGIN:VEVENT
DTSTART;TZID=America/Los_Angeles:20250803T100000
DTEND;TZID=America/Los_Angeles:20250803T123000
DTSTAMP:20260419T070400
CREATED:20250721T183659Z
LAST-MODIFIED:20250721T183659Z
UID:10000879-1754215200-1754224200@www.shorecliffsgolfclub.com
SUMMARY:Closed For Event
DESCRIPTION:
URL:https://www.shorecliffsgolfclub.com/event/closed-for-event-3/
END:VEVENT
BEGIN:VEVENT
DTSTART;TZID=America/Los_Angeles:20250808T173000
DTEND;TZID=America/Los_Angeles:20250808T203000
DTSTAMP:20260419T070400
CREATED:20250819T230834Z
LAST-MODIFIED:20250819T230834Z
UID:10000913-1754674200-1754685000@www.shorecliffsgolfclub.com
SUMMARY:Friday Night Dinner
DESCRIPTION:
URL:https://www.shorecliffsgolfclub.com/event/friday-night-dinner-9/2025-08-08/
END:VEVENT
BEGIN:VEVENT
DTSTART;TZID=America/Los_Angeles:20250809T163000
DTEND;TZID=America/Los_Angeles:20250809T223000
DTSTAMP:20260419T070400
CREATED:20250721T183724Z
LAST-MODIFIED:20250721T183724Z
UID:10000880-1754757000-1754778600@www.shorecliffsgolfclub.com
SUMMARY:Closed For Event
DESCRIPTION:
URL:https://www.shorecliffsgolfclub.com/event/closed-for-event-4/
END:VEVENT
BEGIN:VEVENT
DTSTART;TZID=America/Los_Angeles:20250814T083000
DTEND;TZID=America/Los_Angeles:20250814T150000
DTSTAMP:20260419T070400
CREATED:20250721T183742Z
LAST-MODIFIED:20250721T183742Z
UID:10000881-1755160200-1755183600@www.shorecliffsgolfclub.com
SUMMARY:Closed For Event *BBQ & Bar Cart Set Up Outside for Golfers*
DESCRIPTION:
URL:https://www.shorecliffsgolfclub.com/event/closed-for-event-bbq-bar-cart-set-up-outside-for-golfers/
END:VEVENT
BEGIN:VEVENT
DTSTART;TZID=America/Los_Angeles:20250815T173000
DTEND;TZID=America/Los_Angeles:20250815T203000
DTSTAMP:20260419T070400
CREATED:20250819T230834Z
LAST-MODIFIED:20250819T230834Z
UID:10000914-1755279000-1755289800@www.shorecliffsgolfclub.com
SUMMARY:Friday Night Dinner
DESCRIPTION:
URL:https://www.shorecliffsgolfclub.com/event/friday-night-dinner-9/2025-08-15/
END:VEVENT
BEGIN:VEVENT
DTSTART;TZID=America/Los_Angeles:20250816T110000
DTEND;TZID=America/Los_Angeles:20250816T140000
DTSTAMP:20260419T070400
CREATED:20250721T183802Z
LAST-MODIFIED:20250721T183802Z
UID:10000882-1755342000-1755352800@www.shorecliffsgolfclub.com
SUMMARY:Closed For Event **Restaurant still open to public**
DESCRIPTION:
URL:https://www.shorecliffsgolfclub.com/event/closed-for-event-restaurant-still-open-to-public-2/
END:VEVENT
END:VCALENDAR