BEGIN:VCALENDAR
VERSION:2.0
PRODID:-//Shorecliffs Golf Club - ECPv6.15.18//NONSGML v1.0//EN
CALSCALE:GREGORIAN
METHOD:PUBLISH
X-WR-CALNAME:Shorecliffs Golf Club
X-ORIGINAL-URL:https://www.shorecliffsgolfclub.com
X-WR-CALDESC:Events for Shorecliffs Golf Club
REFRESH-INTERVAL;VALUE=DURATION:PT1H
X-Robots-Tag:noindex
X-PUBLISHED-TTL:PT1H
BEGIN:VTIMEZONE
TZID:America/Los_Angeles
BEGIN:DAYLIGHT
TZOFFSETFROM:-0800
TZOFFSETTO:-0700
TZNAME:PDT
DTSTART:20240310T100000
END:DAYLIGHT
BEGIN:STANDARD
TZOFFSETFROM:-0700
TZOFFSETTO:-0800
TZNAME:PST
DTSTART:20241103T090000
END:STANDARD
BEGIN:DAYLIGHT
TZOFFSETFROM:-0800
TZOFFSETTO:-0700
TZNAME:PDT
DTSTART:20250309T100000
END:DAYLIGHT
BEGIN:STANDARD
TZOFFSETFROM:-0700
TZOFFSETTO:-0800
TZNAME:PST
DTSTART:20251102T090000
END:STANDARD
BEGIN:DAYLIGHT
TZOFFSETFROM:-0800
TZOFFSETTO:-0700
TZNAME:PDT
DTSTART:20260308T100000
END:DAYLIGHT
BEGIN:STANDARD
TZOFFSETFROM:-0700
TZOFFSETTO:-0800
TZNAME:PST
DTSTART:20261101T090000
END:STANDARD
END:VTIMEZONE
BEGIN:VEVENT
DTSTART;VALUE=DATE:20250901
DTEND;VALUE=DATE:20250902
DTSTAMP:20260420T043824
CREATED:20250721T214635Z
LAST-MODIFIED:20250721T214635Z
UID:10000885-1756684800-1756771199@www.shorecliffsgolfclub.com
SUMMARY:Labor Day
DESCRIPTION:
URL:https://www.shorecliffsgolfclub.com/event/labor-day/
END:VEVENT
BEGIN:VEVENT
DTSTART;TZID=America/Los_Angeles:20250905T160000
DTEND;TZID=America/Los_Angeles:20250905T200000
DTSTAMP:20260420T043824
CREATED:20250721T214518Z
LAST-MODIFIED:20250721T215643Z
UID:10000884-1757088000-1757102400@www.shorecliffsgolfclub.com
SUMMARY:Event Closed to the Public
DESCRIPTION:
URL:https://www.shorecliffsgolfclub.com/event/event-closed-to-the-public/
END:VEVENT
BEGIN:VEVENT
DTSTART;TZID=America/Los_Angeles:20250907T150000
DTEND;TZID=America/Los_Angeles:20250907T180000
DTSTAMP:20260420T043824
CREATED:20250819T223926Z
LAST-MODIFIED:20250819T223926Z
UID:10000892-1757257200-1757268000@www.shorecliffsgolfclub.com
SUMMARY:Large reservation - outside patio
DESCRIPTION:*Restaurant inside is open to the public*
URL:https://www.shorecliffsgolfclub.com/event/large-reservation-outside-patio/
END:VEVENT
BEGIN:VEVENT
DTSTART;TZID=America/Los_Angeles:20250913T160000
DTEND;TZID=America/Los_Angeles:20250913T200000
DTSTAMP:20260420T043824
CREATED:20250815T224536Z
LAST-MODIFIED:20250819T190858Z
UID:10000887-1757779200-1757793600@www.shorecliffsgolfclub.com
SUMMARY:Concert on the Course End of Summer Bash
DESCRIPTION:
URL:https://www.shorecliffsgolfclub.com/event/concert-on-the-course-end-of-summer-bash/
ATTACH;FMTTYPE=image/png:https://www.shorecliffsgolfclub.com/wp-content/uploads/sites/9186/2025/08/Concert-on-the-Course-4-1.png
END:VEVENT
BEGIN:VEVENT
DTSTART;TZID=America/Los_Angeles:20250918T173000
DTEND;TZID=America/Los_Angeles:20250918T203000
DTSTAMP:20260420T043824
CREATED:20250917T214104Z
LAST-MODIFIED:20250917T214104Z
UID:10000951-1758216600-1758227400@www.shorecliffsgolfclub.com
SUMMARY:Prime Rib Night
DESCRIPTION:
URL:https://www.shorecliffsgolfclub.com/event/prime-rib-night-11/
END:VEVENT
BEGIN:VEVENT
DTSTART;TZID=America/Los_Angeles:20250919T080000
DTEND;TZID=America/Los_Angeles:20250919T170000
DTSTAMP:20260420T043824
CREATED:20250917T190832Z
LAST-MODIFIED:20250917T190832Z
UID:10000936-1758268800-1758301200@www.shorecliffsgolfclub.com
SUMMARY:South Coast Water District Tournament
DESCRIPTION:
URL:https://www.shorecliffsgolfclub.com/event/south-coast-water-district-tournament/
END:VEVENT
BEGIN:VEVENT
DTSTART;TZID=America/Los_Angeles:20250919T173000
DTEND;TZID=America/Los_Angeles:20250919T203000
DTSTAMP:20260420T043824
CREATED:20250917T212728Z
LAST-MODIFIED:20250917T212728Z
UID:10000950-1758303000-1758313800@www.shorecliffsgolfclub.com
SUMMARY:Friday Night Dinner
DESCRIPTION:
URL:https://www.shorecliffsgolfclub.com/event/friday-night-dinner-10/
END:VEVENT
BEGIN:VEVENT
DTSTART;TZID=America/Los_Angeles:20250921T150000
DTEND;TZID=America/Los_Angeles:20250921T180000
DTSTAMP:20260420T043824
CREATED:20250917T210809Z
LAST-MODIFIED:20250917T210809Z
UID:10000944-1758466800-1758477600@www.shorecliffsgolfclub.com
SUMMARY:Weekly Live Music
DESCRIPTION:
URL:https://www.shorecliffsgolfclub.com/event/weekly-live-music-6/
END:VEVENT
BEGIN:VEVENT
DTSTART;TZID=America/Los_Angeles:20250924T170000
DTEND;TZID=America/Los_Angeles:20250924T183000
DTSTAMP:20260420T043824
CREATED:20250918T184619Z
LAST-MODIFIED:20250918T184619Z
UID:10000961-1758733200-1758738600@www.shorecliffsgolfclub.com
SUMMARY:Line Dancing with Anne Leslie
DESCRIPTION:
URL:https://www.shorecliffsgolfclub.com/event/line-dancing-with-anne-leslie-2/
END:VEVENT
BEGIN:VEVENT
DTSTART;TZID=America/Los_Angeles:20250926T173000
DTEND;TZID=America/Los_Angeles:20250926T203000
DTSTAMP:20260420T043824
CREATED:20250917T214241Z
LAST-MODIFIED:20250917T214241Z
UID:10000954-1758907800-1758918600@www.shorecliffsgolfclub.com
SUMMARY:Friday Night Dinner
DESCRIPTION:
URL:https://www.shorecliffsgolfclub.com/event/friday-night-dinner-11/
END:VEVENT
END:VCALENDAR